BEGIN:VCALENDAR
VERSION:2.0
PRODID:-//Tako//Competition Calendar//PL
BEGIN:VEVENT
UID:1346@legia
DTSTAMP:20260424T080819Z
DESCRIPTION:25 kwietnia 2026 r. - I Puchar Sekcji Strzeleckiej
DTSTART:20260425T090000
DTEND:20260425T150000
LOCATION:Rembertów
SUMMARY:25 kwietnia 2026 r. - I Puchar Sekcji Strzeleckiej
END:VEVENT
BEGIN:VEVENT
UID:1347@legia
DTSTAMP:20260424T080819Z
DESCRIPTION:28 kwietnia 2026 r.  Zawody Otwarte Sekcji Strzeleckiej Łazienkowska+9tka Józefów
DTSTART:20260428T090000
DTEND:20260428T190000
LOCATION:Łazienkowska 3 oraz 9tka w Józefowie
SUMMARY:28 kwietnia 2026 r.  Zawody Otwarte Sekcji Strzeleckiej Łazienkowska+9tka Józefów
END:VEVENT
BEGIN:VEVENT
UID:1348@legia
DTSTAMP:20260424T080819Z
DESCRIPTION:10 maja 2026 r.  Zawody Otwarte Sekcji Strzeleckiej + Taktyczny Rembertów
DTSTART:20260510T090000
DTEND:20260510T150000
LOCATION:Rembertów
SUMMARY:10 maja 2026 r.  Zawody Otwarte Sekcji Strzeleckiej + Taktyczny Rembertów
END:VEVENT
BEGIN:VEVENT
UID:1349@legia
DTSTAMP:20260424T080819Z
DESCRIPTION:14 maja 2026 r.  Zawody Otwarte Sekcji Strzeleckiej
DTSTART:20260514T090000
DTEND:20260514T190000
LOCATION:Łazienkowska 3
SUMMARY:14 maja 2026 r.  Zawody Otwarte Sekcji Strzeleckiej
END:VEVENT
BEGIN:VEVENT
UID:1350@legia
DTSTAMP:20260424T080819Z
DESCRIPTION:19 maja 2026 r.  Zawody Otwarte Sekcji Strzeleckiej Łazienkowska+9tka Józefów
DTSTART:20260519T090000
DTEND:20260519T190000
LOCATION:Łazienkowska 3 oraz 9tka w Józefowie
SUMMARY:19 maja 2026 r.  Zawody Otwarte Sekcji Strzeleckiej Łazienkowska+9tka Józefów
END:VEVENT
BEGIN:VEVENT
UID:1351@legia
DTSTAMP:20260424T080819Z
DESCRIPTION:30 maja 2026 r. - II Puchar Sekcji Strzeleckiej
DTSTART:20260530T090000
DTEND:20260530T150000
LOCATION:Rembertów
SUMMARY:30 maja 2026 r. - II Puchar Sekcji Strzeleckiej
END:VEVENT
BEGIN:VEVENT
UID:1353@legia
DTSTAMP:20260424T080819Z
DESCRIPTION:14 czerwca 2026 r.  Zawody Otwarte Sekcji Strzeleckiej + Taktyczny Rembertów
DTSTART:20260614T090000
DTEND:20260614T150000
LOCATION:Rembertów
SUMMARY:14 czerwca 2026 r.  Zawody Otwarte Sekcji Strzeleckiej + Taktyczny Rembertów
END:VEVENT
BEGIN:VEVENT
UID:1354@legia
DTSTAMP:20260424T080819Z
DESCRIPTION:20 czerwca 2026 r. - III Puchar Sekcji Strzeleckiej
DTSTART:20260620T090000
DTEND:20260620T150000
LOCATION:Rembertów
SUMMARY:20 czerwca 2026 r. - III Puchar Sekcji Strzeleckiej
END:VEVENT
BEGIN:VEVENT
UID:1355@legia
DTSTAMP:20260424T080819Z
DESCRIPTION:25 czerwca 2026 r.  Zawody Otwarte Sekcji Strzeleckiej
DTSTART:20260625T090000
DTEND:20260625T190000
LOCATION:Łazienkowska 3
SUMMARY:25 czerwca 2026 r.  Zawody Otwarte Sekcji Strzeleckiej
END:VEVENT
BEGIN:VEVENT
UID:1356@legia
DTSTAMP:20260424T080819Z
DESCRIPTION:30 czerwca 2026 r.  Zawody Otwarte Sekcji Strzeleckiej Łazienkowska+9tka Józefów
DTSTART:20260630T090000
DTEND:20260630T190000
LOCATION:Łazienkowska 3 oraz 9tka w Józefowie
SUMMARY:30 czerwca 2026 r.  Zawody Otwarte Sekcji Strzeleckiej Łazienkowska+9tka Józefów
END:VEVENT
BEGIN:VEVENT
UID:1357@legia
DTSTAMP:20260424T080819Z
DESCRIPTION:11 lipca 2026 r.  Zawody Otwarte Sekcji Strzeleckiej + Taktyczny Rembertów
DTSTART:20260711T090000
DTEND:20260711T150000
LOCATION:Rembertów
SUMMARY:11 lipca 2026 r.  Zawody Otwarte Sekcji Strzeleckiej + Taktyczny Rembertów
END:VEVENT
BEGIN:VEVENT
UID:1358@legia
DTSTAMP:20260424T080819Z
DESCRIPTION:16 lipca 2026 r.  Zawody Otwarte Sekcji Strzeleckiej
DTSTART:20260716T090000
DTEND:20260716T190000
LOCATION:Łazienkowska 3
SUMMARY:16 lipca 2026 r.  Zawody Otwarte Sekcji Strzeleckiej
END:VEVENT
BEGIN:VEVENT
UID:1359@legia
DTSTAMP:20260424T080819Z
DESCRIPTION:30 lipca 2026 r.  Zawody Otwarte Sekcji Strzeleckiej
DTSTART:20260730T090000
DTEND:20260730T190000
LOCATION:Łazienkowska 3
SUMMARY:30 lipca 2026 r.  Zawody Otwarte Sekcji Strzeleckiej
END:VEVENT
BEGIN:VEVENT
UID:1360@legia
DTSTAMP:20260424T080819Z
DESCRIPTION:8 sierpnia 2026 r.  Zawody Otwarte Sekcji Strzeleckiej + Taktyczny Rembertów
DTSTART:20260808T090000
DTEND:20260808T150000
LOCATION:Rembertów
SUMMARY:8 sierpnia 2026 r.  Zawody Otwarte Sekcji Strzeleckiej + Taktyczny Rembertów
END:VEVENT
BEGIN:VEVENT
UID:1361@legia
DTSTAMP:20260424T080819Z
DESCRIPTION:13 sierpnia 2026 r.  Zawody Otwarte Sekcji Strzeleckiej
DTSTART:20260813T090000
DTEND:20260813T190000
LOCATION:Łazienkowska 3
SUMMARY:13 sierpnia 2026 r.  Zawody Otwarte Sekcji Strzeleckiej
END:VEVENT
BEGIN:VEVENT
UID:1362@legia
DTSTAMP:20260424T080819Z
DESCRIPTION:27 sierpnia 2026 r.  Zawody Otwarte Sekcji Strzeleckiej
DTSTART:20260827T090000
DTEND:20260827T190000
LOCATION:Łazienkowska 3
SUMMARY:27 sierpnia 2026 r.  Zawody Otwarte Sekcji Strzeleckiej
END:VEVENT
BEGIN:VEVENT
UID:1363@legia
DTSTAMP:20260424T080819Z
DESCRIPTION:6 września 2026 r. - IV Puchar Sekcji Strzeleckiej
DTSTART:20260906T090000
DTEND:20260906T150000
LOCATION:Rembertów
SUMMARY:6 września 2026 r. - IV Puchar Sekcji Strzeleckiej
END:VEVENT
BEGIN:VEVENT
UID:1365@legia
DTSTAMP:20260424T080819Z
DESCRIPTION:10 września 2026 r.  Zawody Otwarte Sekcji Strzeleckiej
DTSTART:20260910T090000
DTEND:20260910T190000
LOCATION:Łazienkowska 3
SUMMARY:10 września 2026 r.  Zawody Otwarte Sekcji Strzeleckiej
END:VEVENT
BEGIN:VEVENT
UID:1366@legia
DTSTAMP:20260424T080819Z
DESCRIPTION:19 września 2026 r. Mistrzostwa Warszawy 2026
DTSTART:20260919T090000
DTEND:20260919T150000
LOCATION:Rembertów
SUMMARY:19 września 2026 r. Mistrzostwa Warszawy 2026
END:VEVENT
BEGIN:VEVENT
UID:1367@legia
DTSTAMP:20260424T080819Z
DESCRIPTION:29 września 2026 r.  Zawody Otwarte Sekcji Strzeleckiej Łazienkowska+9tka Józefów
DTSTART:20260929T090000
DTEND:20260929T190000
LOCATION:Łazienkowska 3 oraz 9tka w Józefowie
SUMMARY:29 września 2026 r.  Zawody Otwarte Sekcji Strzeleckiej Łazienkowska+9tka Józefów
END:VEVENT
BEGIN:VEVENT
UID:1368@legia
DTSTAMP:20260424T080819Z
DESCRIPTION:4 października 2026 r. - V Puchar Sekcji Strzeleckiej - FINAŁ
DTSTART:20261004T090000
DTEND:20261004T150000
LOCATION:Rembertów
SUMMARY:4 października 2026 r. - V Puchar Sekcji Strzeleckiej - FINAŁ
END:VEVENT
BEGIN:VEVENT
UID:1383@legia
DTSTAMP:20260424T080819Z
DESCRIPTION:10 października 2026 Mistrzostwa Legii Sekcji Strzeleckiej
DTSTART:20261010T090000
DTEND:20261010T150000
LOCATION:Rembertów
SUMMARY:10 października 2026 Mistrzostwa Legii Sekcji Strzeleckiej
END:VEVENT
BEGIN:VEVENT
UID:1364@legia
DTSTAMP:20260424T080819Z
DESCRIPTION:17 października 2026 Memoriał Adama Smelczyńskiego (Jesienne Rzutki)
DTSTART:20261017T090000
DTEND:20261017T150000
LOCATION:Rembertów
SUMMARY:17 października 2026 Memoriał Adama Smelczyńskiego (Jesienne Rzutki)
END:VEVENT
BEGIN:VEVENT
UID:1369@legia
DTSTAMP:20260424T080819Z
DESCRIPTION:22 października 2026 r.  Zawody Otwarte Sekcji Strzeleckiej
DTSTART:20261022T090000
DTEND:20261022T190000
LOCATION:Łazienkowska 3
SUMMARY:22 października 2026 r.  Zawody Otwarte Sekcji Strzeleckiej
END:VEVENT
BEGIN:VEVENT
UID:1370@legia
DTSTAMP:20260424T080819Z
DESCRIPTION:27 października 2026 r.  Zawody Otwarte Sekcji Strzeleckiej Łazienkowska+9tka Józefów
DTSTART:20261027T090000
DTEND:20261027T190000
LOCATION:Łazienkowska 3 oraz 9tka w Józefowie
SUMMARY:27 października 2026 r.  Zawody Otwarte Sekcji Strzeleckiej Łazienkowska+9tka Józefów
END:VEVENT
BEGIN:VEVENT
UID:1371@legia
DTSTAMP:20260424T080819Z
DESCRIPTION:8 listopada 2026 r.  Zawody Otwarte Sekcji Strzeleckiej
DTSTART:20261108T090000
DTEND:20261108T150000
LOCATION:Łazienkowska 3
SUMMARY:8 listopada 2026 r.  Zawody Otwarte Sekcji Strzeleckiej
END:VEVENT
BEGIN:VEVENT
UID:1372@legia
DTSTAMP:20260424T080819Z
DESCRIPTION:12 listopada 2026 r.  Zawody Otwarte Sekcji Strzeleckiej
DTSTART:20261112T090000
DTEND:20261112T190000
LOCATION:Łazienkowska 3
SUMMARY:12 listopada 2026 r.  Zawody Otwarte Sekcji Strzeleckiej
END:VEVENT
BEGIN:VEVENT
UID:1378@legia
DTSTAMP:20260424T080819Z
DESCRIPTION:19 listopada 2026 r.  Zawody Otwarte Sekcji Strzeleckiej
DTSTART:20261119T090000
DTEND:20261119T190000
LOCATION:Łazienkowska 3
SUMMARY:19 listopada 2026 r.  Zawody Otwarte Sekcji Strzeleckiej
END:VEVENT
BEGIN:VEVENT
UID:1374@legia
DTSTAMP:20260424T080819Z
DESCRIPTION:24 listopada 2026 r.  Zawody Otwarte Sekcji Strzeleckiej Łazienkowska+9tka Józefów
DTSTART:20261124T090000
DTEND:20261124T190000
LOCATION:Łazienkowska 3 oraz 9tka w Józefowie
SUMMARY:24 listopada 2026 r.  Zawody Otwarte Sekcji Strzeleckiej Łazienkowska+9tka Józefów
END:VEVENT
BEGIN:VEVENT
UID:1377@legia
DTSTAMP:20260424T080819Z
DESCRIPTION:28 listopada 2026 r.  Zawody Otwarte Sekcji Strzeleckiej
DTSTART:20261128T090000
DTEND:20261128T150000
LOCATION:Łazienkowska 3
SUMMARY:28 listopada 2026 r.  Zawody Otwarte Sekcji Strzeleckiej
END:VEVENT
BEGIN:VEVENT
UID:1376@legia
DTSTAMP:20260424T080819Z
DESCRIPTION:1 grudnia 2026 r.  Zawody Otwarte Sekcji Strzeleckiej Łazienkowska+9tka Józefów
DTSTART:20261201T090000
DTEND:20261201T190000
LOCATION:Łazienkowska 3 oraz 9tka w Józefowie
SUMMARY:1 grudnia 2026 r.  Zawody Otwarte Sekcji Strzeleckiej Łazienkowska+9tka Józefów
END:VEVENT
BEGIN:VEVENT
UID:1375@legia
DTSTAMP:20260424T080819Z
DESCRIPTION:5 grudnia 2026 r.  Zawody Otwarte Sekcji Strzeleckiej
DTSTART:20261205T090000
DTEND:20261205T150000
LOCATION:Łazienkowska 3
SUMMARY:5 grudnia 2026 r.  Zawody Otwarte Sekcji Strzeleckiej
END:VEVENT
BEGIN:VEVENT
UID:1373@legia
DTSTAMP:20260424T080819Z
DESCRIPTION:10 grudnia 2026 r.  Zawody Otwarte Sekcji Strzeleckiej
DTSTART:20261210T090000
DTEND:20261210T190000
LOCATION:Łazienkowska 3
SUMMARY:10 grudnia 2026 r.  Zawody Otwarte Sekcji Strzeleckiej
END:VEVENT
BEGIN:VEVENT
UID:1379@legia
DTSTAMP:20260424T080819Z
DESCRIPTION:17 grudnia 2026 r.  Zawody Otwarte Sekcji Strzeleckiej
DTSTART:20261217T090000
DTEND:20261217T190000
LOCATION:Łazienkowska 3
SUMMARY:17 grudnia 2026 r.  Zawody Otwarte Sekcji Strzeleckiej
END:VEVENT
BEGIN:VEVENT
UID:1380@legia
DTSTAMP:20260424T080819Z
DESCRIPTION:20 grudnia 2026 r.  Zawody Otwarte Sekcji Strzeleckiej
DTSTART:20261220T090000
DTEND:20261220T150000
LOCATION:Łazienkowska 3
SUMMARY:20 grudnia 2026 r.  Zawody Otwarte Sekcji Strzeleckiej
END:VEVENT
END:VCALENDAR
